BEGIN:VCALENDAR
VERSION:2.0
PRODID:-//May Hosiery Lofts - ECPv6.15.20//NONSGML v1.0//EN
CALSCALE:GREGORIAN
METHOD:PUBLISH
X-WR-CALNAME:May Hosiery Lofts
X-ORIGINAL-URL:https://mayhosierylofts.com
X-WR-CALDESC:Events for May Hosiery Lofts
REFRESH-INTERVAL;VALUE=DURATION:PT1H
X-Robots-Tag:noindex
X-PUBLISHED-TTL:PT1H
BEGIN:VTIMEZONE
TZID:UTC
BEGIN:STANDARD
TZOFFSETFROM:+0000
TZOFFSETTO:+0000
TZNAME:UTC
DTSTART:20180101T000000
END:STANDARD
END:VTIMEZONE
BEGIN:VEVENT
DTSTART;TZID=UTC:20190829T120000
DTEND;TZID=UTC:20190829T133000
DTSTAMP:20260421T101413
CREATED:20190812T124126Z
LAST-MODIFIED:20190812T124126Z
UID:1385-1567080000-1567085400@mayhosierylofts.com
SUMMARY:Tour & Lunch
DESCRIPTION:Come view the anticipated wait of our lofts and enjoy lunch on us!
URL:https://mayhosierylofts.com/event/tour-lunch/
END:VEVENT
BEGIN:VEVENT
DTSTART;VALUE=DATE:20190517
DTEND;VALUE=DATE:20190518
DTSTAMP:20260421T101413
CREATED:20190517T005359Z
LAST-MODIFIED:20190517T005516Z
UID:877-1558051200-1558137599@mayhosierylofts.com
SUMMARY:Test Event
DESCRIPTION:Should be fun!
URL:https://mayhosierylofts.com/event/test-event/
LOCATION:By The Pool
END:VEVENT
END:VCALENDAR